BEGIN:VCALENDAR
VERSION:2.0
PRODID:-//Arrow Performance Group - ECPv6.15.20//NONSGML v1.0//EN
CALSCALE:GREGORIAN
METHOD:PUBLISH
X-ORIGINAL-URL:https://arrowperformancegroup.com
X-WR-CALDESC:Events for Arrow Performance Group
REFRESH-INTERVAL;VALUE=DURATION:PT1H
X-Robots-Tag:noindex
X-PUBLISHED-TTL:PT1H
BEGIN:VTIMEZONE
TZID:America/Denver
BEGIN:DAYLIGHT
TZOFFSETFROM:-0700
TZOFFSETTO:-0600
TZNAME:MDT
DTSTART:20220313T090000
END:DAYLIGHT
BEGIN:STANDARD
TZOFFSETFROM:-0600
TZOFFSETTO:-0700
TZNAME:MST
DTSTART:20221106T080000
END:STANDARD
BEGIN:DAYLIGHT
TZOFFSETFROM:-0700
TZOFFSETTO:-0600
TZNAME:MDT
DTSTART:20230312T090000
END:DAYLIGHT
BEGIN:STANDARD
TZOFFSETFROM:-0600
TZOFFSETTO:-0700
TZNAME:MST
DTSTART:20231105T080000
END:STANDARD
BEGIN:DAYLIGHT
TZOFFSETFROM:-0700
TZOFFSETTO:-0600
TZNAME:MDT
DTSTART:20240310T090000
END:DAYLIGHT
BEGIN:STANDARD
TZOFFSETFROM:-0600
TZOFFSETTO:-0700
TZNAME:MST
DTSTART:20241103T080000
END:STANDARD
END:VTIMEZONE
BEGIN:VEVENT
DTSTART;TZID=America/Denver:20231208T060000
DTEND;TZID=America/Denver:20231208T100000
DTSTAMP:20260421T092510
CREATED:20231202T034523Z
LAST-MODIFIED:20231204T010922Z
UID:10000005-1702015200-1702029600@arrowperformancegroup.com
SUMMARY:PowerPoint Basic Training- Designing for Presentation
DESCRIPTION:Training Overview \nTake your PowerPoint skills to the next level by learning to make more complex\, interactive\, and engaging presentations. \nAre your PowerPoint presentations lacking the polish or punch you’d like them to have? Our Intermediate PowerPoint training class lets you take your PowerPoint skills to the next level\, enabling you to make more complex\, interactive\, and engaging presentations. This course will give you the ability to create presentations that will be more visually appealing and impactful when giving a presentation. The course provides ample interactive activity\, allowing you to be sure that you have mastered each lesson. The course provides ample interactive activity\, allowing you to be sure that you have mastered each lesson. Our experienced educators will be with you every step of the way\, leading you to a thorough understanding of the material\, and answering all of your questions. \n\n\nPre-Requisites \nStudents entering the Intermediate PowerPoint training course should have a general familiarity with Microsoft PowerPoint\, including adding slides\, editing content\, and working with graphics. Students should also feel comfortable working in Microsoft Word. \n\n\nLearning Objectives \n\n– Learn the skills to create PowerPoint content for presentations\n– Understand benefit and execution of creating consistent themes and color schemes\n– Understand more advanced slide formatting techniques and will learn to better use the master slide. They will learn to use more advanced techniques in working with pictures and SmartArt\n– Master more advanced presentation tools\n\nLeadership Competencies \n\n– Business Acumen\n– Job Knowledge\n\n\n  \nYour Trainer \n AdvantEdge Training & Consulting \n  \nRegister Here
URL:https://arrowperformancegroup.com/event/powerpoint-basic-training-designing-for-presentation/
CATEGORIES:Microsoft PowerPoint Design
ATTACH;FMTTYPE=image/png:https://arrowperformancegroup.com/wp-content/uploads/2023/12/MS-ppt.png
END:VEVENT
END:VCALENDAR