BEGIN:VCALENDAR
VERSION:2.0
PRODID:-//Arrow Performance Group - ECPv6.15.20//NONSGML v1.0//EN
CALSCALE:GREGORIAN
METHOD:PUBLISH
X-WR-CALNAME:Arrow Performance Group
X-ORIGINAL-URL:https://arrowperformancegroup.com
X-WR-CALDESC:Events for Arrow Performance Group
REFRESH-INTERVAL;VALUE=DURATION:PT1H
X-Robots-Tag:noindex
X-PUBLISHED-TTL:PT1H
BEGIN:VTIMEZONE
TZID:America/Denver
BEGIN:DAYLIGHT
TZOFFSETFROM:-0700
TZOFFSETTO:-0600
TZNAME:MDT
DTSTART:20220313T090000
END:DAYLIGHT
BEGIN:STANDARD
TZOFFSETFROM:-0600
TZOFFSETTO:-0700
TZNAME:MST
DTSTART:20221106T080000
END:STANDARD
BEGIN:DAYLIGHT
TZOFFSETFROM:-0700
TZOFFSETTO:-0600
TZNAME:MDT
DTSTART:20230312T090000
END:DAYLIGHT
BEGIN:STANDARD
TZOFFSETFROM:-0600
TZOFFSETTO:-0700
TZNAME:MST
DTSTART:20231105T080000
END:STANDARD
BEGIN:DAYLIGHT
TZOFFSETFROM:-0700
TZOFFSETTO:-0600
TZNAME:MDT
DTSTART:20240310T090000
END:DAYLIGHT
BEGIN:STANDARD
TZOFFSETFROM:-0600
TZOFFSETTO:-0700
TZNAME:MST
DTSTART:20241103T080000
END:STANDARD
END:VTIMEZONE
BEGIN:VEVENT
DTSTART;TZID=America/Denver:20231211T060000
DTEND;TZID=America/Denver:20231211T100000
DTSTAMP:20260425T051014
CREATED:20231202T041914Z
LAST-MODIFIED:20231204T010535Z
UID:10000007-1702274400-1702288800@arrowperformancegroup.com
SUMMARY:MS Excel Intermediate Training
DESCRIPTION:Training Overview \nAre you ready to go beyond the basics in Excel? Our intermediate Excel training course covers more complex Excel functions\, charting\, and data tools. Build upon your basic knowledge of this essential application to learn more formatting\, more formulas\, and more functionality. You will learn to work with functions such as IF\, Proper\, Roundup\, and Date and Time functions\, as well as how to create visual impact with your data by creating charts. It also looks at how to create formulas across multiple spreadsheets in the same document. Our instructors will be available to answer your questions and make sure you have a firm understanding of Excel at a deeper level. \nBefore taking this class\, students should have an understanding of basic Excel formulas and functions\, experience entering data into Microsoft Excel\, familiarity with Windows\, and basic computer skills. \nTopics Covered \n\n\nFormulas & Functions \n\n\nMoving and Copying Data in Excel \n\n\nWorking with More Functions \n\n\nWorking with Multiple Worksheets \n\n\nFormatting Cells and Appearance \n\n\nViewing Worksheets \n\n\nIntroduction to Basic Charts \n\n\nIntermediate Excel training covers things beyond the basics\, to give you more developed skills in building your spreadsheets\, creating formulas to automate them\, and adding visual impact with formatting and charts. \nLearning Objectives \n\n– Explore how to utilize complex functions\, including date and time functions and IF statements and AutoSum\n– Learn about organizing data\, working with multiple worksheets\, and basic charting\n– Build on skills learned in the Basic class\n– Learn how to do more with copying and pasting\, such as creating custom lists\n– Learn more advanced formatting techniques like conditional formatting\n\nLeadership Competencies \n\n– Business Acumen\n– Job Knowledge\n\n\n  \nYour Trainer \n AdvantEdge Training & Consulting \n  \nRegister Here
URL:https://arrowperformancegroup.com/event/ms-excel-intermediate-training/
CATEGORIES:Microsoft Excel Intermediate
ATTACH;FMTTYPE=image/png:https://arrowperformancegroup.com/wp-content/uploads/2023/12/MS-excel.png
END:VEVENT
END:VCALENDAR