BEGIN:VCALENDAR
VERSION:2.0
PRODID:-//Arrow Performance Group - ECPv6.15.20//NONSGML v1.0//EN
CALSCALE:GREGORIAN
METHOD:PUBLISH
X-ORIGINAL-URL:https://arrowperformancegroup.com
X-WR-CALDESC:Events for Arrow Performance Group
REFRESH-INTERVAL;VALUE=DURATION:PT1H
X-Robots-Tag:noindex
X-PUBLISHED-TTL:PT1H
BEGIN:VTIMEZONE
TZID:America/Denver
BEGIN:DAYLIGHT
TZOFFSETFROM:-0700
TZOFFSETTO:-0600
TZNAME:MDT
DTSTART:20220313T090000
END:DAYLIGHT
BEGIN:STANDARD
TZOFFSETFROM:-0600
TZOFFSETTO:-0700
TZNAME:MST
DTSTART:20221106T080000
END:STANDARD
BEGIN:DAYLIGHT
TZOFFSETFROM:-0700
TZOFFSETTO:-0600
TZNAME:MDT
DTSTART:20230312T090000
END:DAYLIGHT
BEGIN:STANDARD
TZOFFSETFROM:-0600
TZOFFSETTO:-0700
TZNAME:MST
DTSTART:20231105T080000
END:STANDARD
BEGIN:DAYLIGHT
TZOFFSETFROM:-0700
TZOFFSETTO:-0600
TZNAME:MDT
DTSTART:20240310T090000
END:DAYLIGHT
BEGIN:STANDARD
TZOFFSETFROM:-0600
TZOFFSETTO:-0700
TZNAME:MST
DTSTART:20241103T080000
END:STANDARD
END:VTIMEZONE
BEGIN:VEVENT
DTSTART;TZID=America/Denver:20231215T113000
DTEND;TZID=America/Denver:20231215T130000
DTSTAMP:20260425T073851
CREATED:20230815T091403Z
LAST-MODIFIED:20231215T165051Z
UID:10000001-1702639800-1702645200@arrowperformancegroup.com
SUMMARY:Healthy and Vibrant Organizations in 2024
DESCRIPTION:Training Overview \nBuilding healthy and vibrant organizations requires a balance of investments in your team\, your organization\, and yourself. \n​While many think of leading as primarily leading people in an organization and investing in yourself as a leader\, there is another aspect of leadership that focuses on building an organization that is far sighted and long lasting. This includes establishing the overall purpose and vision of the organization and determining where the organization’s resources will be invested.  Like a human body\, an organization has multiple systems that work together to create capability and capacity.  You can have all the capacity in one component of the system\, but the organization will never achieve its full potential because another component is limiting the entire system.  Understanding a leader’s role in designing and building an organization is a critical aspect of leadership. \n​This session will focus on organizational leadership and will review six critical attributes for long term organizational success and sustainability. \n\n​Organizational Stewardship – This is a fundamental tenant that involves a commitment to the long-term sustainability and well-being of the organization.\n​Strategic Thinking – Strategic thinking involves stepping back to envision a healthier and sustainable future.\n​Mission and Vision – Articulating and standing behind the organization’s vision and mission is critical.\n​Strategic Planning – Strategic planning is a process to determine how the organization will focus limited resources effectively. While the concept is simple\, developing and implementing strategy can be challenging.\n​Balancing interests – a leader has many stakeholders who have needs and interests.  Balancing the demands of each group to maximize win-win-win outcomes involves making compromises.\n​Leading Change – Like any living creature\, an organization has multiple stages of life. Successfully guiding an organization through each stage is critical for the long-term.\n\n​Participants will have the opportunity to assess their organizational leadership during the session. \nKey Competencies \n\nWorkforce Competencies – Accountability\, interpersonal skills\, customer service\nLeadership Competencies – Innovation\, relationships\, strategic thinking\, systems thinking\, team leadership\nSenior Leader Competencies – Change management\, vision and strategy\n\n​Learning Objectives \n\n​Describe the principles of organizational leadership\, including the differences between team\, self\, and organizational leadership.\n​Describe the six attributes of organizational leadership and how they apply to long-term organizational success.\n​Identify strategies for enhancing an organization’s long-term well-being.\n\n\nYour Trainer: \n \nStuart Thomas \nStuart Thomas has over 40 years of experience helping leaders improve the performance of their organizations through integration of strategy\, people and process. He worked at Accenture / Andersen Consulting for 20 years and then founded Arrow Performance Group in 1999. He has helped improve performance for over 500 organizations in over fifteen industries. \n​Stuart earned an undergraduate degree in Chemistry from Miami University in Ohio\, an M.B.A. from Colorado State University\, and a Master of Science degree in Information Technology from the University of Denver. He has certificates that include Senior Professional in Human Resources (HRCI-SPHR®)\, Project Management Professional (PMI-PMP®)\, Agile Certified Practitioner (PMI-ACP®)\, and ICF-ACC for coaching. \n​“One thing I’ve seen that can hold an organization back from achieving desired growth is how top management spends their time. Moving from day-to-day operational responsibilities to more strategic focused activities can have a positive impact.” – Stuart Thomas \nRegister Here
URL:https://arrowperformancegroup.com/event/building-healthy-and-vibrant-organizations/
CATEGORIES:Building Healthy and Vibrant Organizations
ATTACH;FMTTYPE=image/png:https://arrowperformancegroup.com/wp-content/uploads/2023/08/DEC-LES.png
ORGANIZER;CN="Stuart Thomas":MAILTO:stuart@arrowperformancegroup.com
LOCATION:https://arrowperformancegroup.com/event/building-healthy-and-vibrant-organizations/
END:VEVENT
END:VCALENDAR